BEGIN:VCALENDAR
VERSION:2.0
PRODID:icalendar-ruby
CALSCALE:GREGORIAN
METHOD:PUBLISH
BEGIN:VEVENT
DTSTAMP:20260421T002522Z
UID:66-551624@gracekelowna.com
DTSTART:20261011T180000Z
DTEND:20261011T191500Z
CLASS:PUBLIC
CREATED:20260420T162158
DESCRIPTION:
LAST-MODIFIED:20260420T162158
LOCATION:Grace Baptist Church
SUMMARY:Sunday Gathering
URL;VALUE=URI:https://www.gracekelowna.com/events/sunday-gathering/2026-10-
 11
ATTACH;FILENAME=Youtube Thumbnail Editor.001.jpeg;FMTTYPE=image/jpeg:https:
 //dq5pwpg1q8ru0.cloudfront.net/2022/08/30/09/55/50/5a54289e-39ba-4982-b04c
 -ea10836d47c1/Youtube%20Thumbnail%20Editor.001.jpeg
END:VEVENT
END:VCALENDAR
